BEGIN:VCALENDAR
VERSION:2.0
PRODID:-//wp-events-plugin.com//6.4.7.2//EN
TZID:Europe/Paris
X-WR-TIMEZONE:Europe/Paris
BEGIN:VEVENT
UID:113@sudeducation38.org
DTSTART;TZID=Europe/Paris:20230608T183000
DTEND;TZID=Europe/Paris:20230608T183000
DTSTAMP:20230601T164938Z
URL:https://www.sudeducation38.org/events/reunion-a-vienne/
SUMMARY:Réunion à Vienne
DESCRIPTION:Réunion du groupe local SUD éducation au BHV (en face de la m
 airie). Contact au 06 23 20 19 82
END:VEVENT
BEGIN:VTIMEZONE
TZID:Europe/Paris
X-LIC-LOCATION:Europe/Paris
BEGIN:DAYLIGHT
DTSTART:20230326T030000
TZOFFSETFROM:+0100
TZOFFSETTO:+0200
TZNAME:CEST
END:DAYLIGHT
END:VTIMEZONE
END:VCALENDAR