BEGIN:VCALENDAR
VERSION:2.0
PRODID:-//wp-events-plugin.com//6.4.7.2//EN
TZID:Europe/Paris
X-WR-TIMEZONE:Europe/Paris
BEGIN:VEVENT
UID:82@sudeducation38.org
DTSTART;TZID=Europe/Paris:20230308T183000
DTEND;TZID=Europe/Paris:20230308T183000
DTSTAMP:20230228T075401Z
URL:https://www.sudeducation38.org/events/rassemblement-eclaire-a-vienne-p
 our-defendre-les-droits-des-femmes/
SUMMARY:Rassemblement éclairé à Vienne pour défendre les droits des fem
 mes
DESCRIPTION:Venez avec flambeaux et lampions pour défendre les droits des 
 femmes encore attaqués\, notamment en France\, par la réforme des retrai
 tes.\n\nRendez-vous à 18h30 au Jardin de Cybèle.
END:VEVENT
BEGIN:VTIMEZONE
TZID:Europe/Paris
X-LIC-LOCATION:Europe/Paris
BEGIN:STANDARD
DTSTART:20221030T020000
TZOFFSETFROM:+0200
TZOFFSETTO:+0100
TZNAME:CET
END:STANDARD
END:VTIMEZONE
END:VCALENDAR