BEGIN:VCALENDAR
VERSION:2.0
PRODID:-//wp-events-plugin.com//6.4.7.2//EN
TZID:Europe/Paris
X-WR-TIMEZONE:Europe/Paris
BEGIN:VEVENT
UID:84@sudeducation38.org
DTSTART;TZID=Europe/Paris;VALUE=DATE:20230311
DTEND;TZID=Europe/Paris;VALUE=DATE:20230312
DTSTAMP:20230313T000336Z
URL:https://www.sudeducation38.org/events/journee-de-mobilisation-pour-la-
 defense-des-retraites-grenoble-manifestation-14h30-place-victor-hugo/
SUMMARY:journée de mobilisation pour la défense des retraites (GRENOBLE :
  manifestation 14h30 Place Victor Hugo)
DESCRIPTION:GRENOBLE : manifestation 14h30 Place Victor Hugo
END:VEVENT
BEGIN:VTIMEZONE
TZID:Europe/Paris
X-LIC-LOCATION:Europe/Paris
BEGIN:STANDARD
DTSTART:20221030T020000
TZOFFSETFROM:+0200
TZOFFSETTO:+0100
TZNAME:CET
END:STANDARD
END:VTIMEZONE
END:VCALENDAR