BEGIN:VCALENDAR
VERSION:2.0
PRODID:-//wp-events-plugin.com//6.4.7.2//EN
TZID:Europe/Paris
X-WR-TIMEZONE:Europe/Paris
BEGIN:VEVENT
UID:49@sudeducation38.org
DTSTART;TZID=Europe/Paris;VALUE=DATE:20221206
DTEND;TZID=Europe/Paris;VALUE=DATE:20221207
DTSTAMP:20221122T173321Z
URL:https://www.sudeducation38.org/events/elections-pro-votez-sud-educatio
 n-8/
SUMMARY:Élections pro : VOTEZ SUD éducation !
DESCRIPTION:https://www.sudeducation.org/elections/elections-professionnell
 es-2022/
END:VEVENT
BEGIN:VTIMEZONE
TZID:Europe/Paris
X-LIC-LOCATION:Europe/Paris
BEGIN:STANDARD
DTSTART:20221030T020000
TZOFFSETFROM:+0200
TZOFFSETTO:+0100
TZNAME:CET
END:STANDARD
END:VTIMEZONE
END:VCALENDAR