BEGIN:VCALENDAR
VERSION:2.0
PRODID:-//wp-events-plugin.com//6.4.7.2//EN
TZID:Europe/Paris
X-WR-TIMEZONE:Europe/Paris
BEGIN:VEVENT
UID:202@sudeducation38.org
DTSTART;TZID=Europe/Paris:20241114T083000
DTEND;TZID=Europe/Paris:20241114T183000
DTSTAMP:20241030T211143Z
URL:https://www.sudeducation38.org/events/congres-de-sud-education-38-a-gr
 enoble-de-8h30-a-18h/
SUMMARY:Congrès de SUD éducation 38 (à Grenoble de 8h30 à 18h)
DESCRIPTION:Congrès de SUD éducation 38\nLe Congrès aura lieu à Salle L
 a CAPSULE géré par Cap Berriat les 14 et 15 nov (8h30 -18h)\n\n
LOCATION:Salle La CAPSULE\, 21 rue Boucher-de-Perthes\, GRENOBLE\, 38000\, 
 France
X-APPLE-STRUCTURED-LOCATION;VALUE=URI;X-ADDRESS=21 rue Boucher-de-Perthes\,
  GRENOBLE\, 38000\, France;X-APPLE-RADIUS=100;X-TITLE=Salle La CAPSULE:geo
 :0,0
END:VEVENT
BEGIN:VTIMEZONE
TZID:Europe/Paris
X-LIC-LOCATION:Europe/Paris
BEGIN:STANDARD
DTSTART:20241027T020000
TZOFFSETFROM:+0200
TZOFFSETTO:+0100
TZNAME:CET
END:STANDARD
END:VTIMEZONE
END:VCALENDAR