BEGIN:VCALENDAR
VERSION:2.0
PRODID:-//wp-events-plugin.com//6.4.7.2//EN
TZID:Europe/Paris
X-WR-TIMEZONE:Europe/Paris
BEGIN:VEVENT
UID:111@sudeducation38.org
DTSTART;TZID=Europe/Paris:20230601T180000
DTEND;TZID=Europe/Paris:20230601T200000
DTSTAMP:20230530T021917Z
URL:https://www.sudeducation38.org/events/ag-du-syndicat-sud-education-38-
 18h-20h-2/
SUMMARY:AG du syndicat SUD éducation 38 (18h-20h)
DESCRIPTION:AG du syndicat SUD éducation 38 (18h-20h)
LOCATION:local de Solidaires Isère\, 3 rue F. Garcia Lorca\, GRENOBLE\, 38
 100\, France
X-APPLE-STRUCTURED-LOCATION;VALUE=URI;X-ADDRESS=3 rue F. Garcia Lorca\, GRE
 NOBLE\, 38100\, France;X-APPLE-RADIUS=100;X-TITLE=local de Solidaires Isè
 re:geo:0,0
END:VEVENT
BEGIN:VTIMEZONE
TZID:Europe/Paris
X-LIC-LOCATION:Europe/Paris
BEGIN:DAYLIGHT
DTSTART:20230326T030000
TZOFFSETFROM:+0100
TZOFFSETTO:+0200
TZNAME:CEST
END:DAYLIGHT
END:VTIMEZONE
END:VCALENDAR