BEGIN:VCALENDAR
VERSION:2.0
PRODID:-//wp-events-plugin.com//6.4.7.2//EN
TZID:Europe/Paris
X-WR-TIMEZONE:Europe/Paris
BEGIN:VEVENT
UID:19@sudeducation38.org
DTSTART;TZID=Europe/Paris:20220609T140000
DTEND;TZID=Europe/Paris:20220609T160000
DTSTAMP:20220519T204050Z
URL:https://www.sudeducation38.org/events/14h-rassemblement-et-audience-au
 -rectorat-de-grenoble/
SUMMARY:14h RASSEMBLEMENT ET AUDIENCE au RECTORAT de GRENOBLE
DESCRIPTION:Journée de grève POUR PLUS DE MOYENS !\n\n14h RASSEMBLEMENT 
 ET AUDIENCE\n au RECTORAT de GRENOBLE\nhttps://www.sudeducation38.org/jeu
 di-9-juin-en-greve-pour-plus-de-moyens/\n\n
LOCATION:Rectorat de Grenoble\, 7 place Bir-Hakeim\, GRENOBLE\, 38021\, Fra
 nce
X-APPLE-STRUCTURED-LOCATION;VALUE=URI;X-ADDRESS=7 place Bir-Hakeim\, GRENOB
 LE\, 38021\, France;X-APPLE-RADIUS=100;X-TITLE=Rectorat de Grenoble:geo:0,
 0
END:VEVENT
BEGIN:VTIMEZONE
TZID:Europe/Paris
X-LIC-LOCATION:Europe/Paris
BEGIN:DAYLIGHT
DTSTART:20220327T030000
TZOFFSETFROM:+0100
TZOFFSETTO:+0200
TZNAME:CEST
END:DAYLIGHT
END:VTIMEZONE
END:VCALENDAR